BEGIN:VCALENDAR
VERSION:2.0
PRODID:icalendar-ruby
CALSCALE:GREGORIAN
METHOD:PUBLISH
BEGIN:VEVENT
DTSTAMP:20260423T203611Z
UID:7-801468@ulcgainesville.com
DTSTART:20261025T163000Z
DTEND:20261025T171500Z
CLASS:PUBLIC
CREATED:20260423T111026
DESCRIPTION:
LAST-MODIFIED:20260423T111026
LOCATION:
SUMMARY:Adult Ed
URL;VALUE=URI:https://ulcgainesville.com/events/adult-ed/2026-10-25
ATTACH;FILENAME=FwB1V.jpg;FMTTYPE=image/jpeg:https://dq5pwpg1q8ru0.cloudfro
 nt.net/2024/09/07/20/35/57/969ce73b-d45b-46dc-aead-a69422f5a795/FwB1V.jpg
END:VEVENT
END:VCALENDAR
