BEGIN:VCALENDAR
VERSION:2.0
PRODID:icalendar-ruby
CALSCALE:GREGORIAN
METHOD:PUBLISH
BEGIN:VEVENT
DTSTAMP:20260423T222919Z
UID:7-802175@ulcgainesville.com
DTSTART:20261101T173000Z
DTEND:20261101T181500Z
CLASS:PUBLIC
CREATED:20260423T140549
DESCRIPTION:
LAST-MODIFIED:20260423T140549
LOCATION:
SUMMARY:Adult Ed
URL;VALUE=URI:https://ulcgainesville.com/events/adult-ed/2026-11-01
ATTACH;FILENAME=FwB1V.jpg;FMTTYPE=image/jpeg:https://dq5pwpg1q8ru0.cloudfro
 nt.net/2024/09/07/20/35/57/969ce73b-d45b-46dc-aead-a69422f5a795/FwB1V.jpg
END:VEVENT
END:VCALENDAR
