BEGIN:VCALENDAR
VERSION:2.0
PRODID:icalendar-ruby
CALSCALE:GREGORIAN
METHOD:PUBLISH
BEGIN:VEVENT
DTSTAMP:20260423T144629Z
UID:8-800167@ulcgainesville.com
DTSTART:20261013T190000Z
DTEND:20261013T200000Z
CLASS:PUBLIC
CREATED:20260423T052139
DESCRIPTION:
LAST-MODIFIED:20260423T052139
LOCATION:
SUMMARY:The Bee
URL;VALUE=URI:https://ulcgainesville.com/events/the-bee/2026-10-13
ATTACH;FILENAME=website-photos2.png;FMTTYPE=image/png:https://dq5pwpg1q8ru0
 .cloudfront.net/2024/09/07/20/58/58/73c2f94d-62e9-4ffa-b3b5-1932039c8eba/w
 ebsite-photos2.png
END:VEVENT
END:VCALENDAR
